BEGIN:VCALENDAR
VERSION:2.0
PRODID:-//Welcome to  Rumbleseat Wine - ECPv6.15.20//NONSGML v1.0//EN
CALSCALE:GREGORIAN
METHOD:PUBLISH
X-WR-CALNAME:Welcome to  Rumbleseat Wine
X-ORIGINAL-URL:https://rumbleseatwine.com
X-WR-CALDESC:Events for Welcome to  Rumbleseat Wine
REFRESH-INTERVAL;VALUE=DURATION:PT1H
X-Robots-Tag:noindex
X-PUBLISHED-TTL:PT1H
BEGIN:VTIMEZONE
TZID:UTC
BEGIN:STANDARD
TZOFFSETFROM:+0000
TZOFFSETTO:+0000
TZNAME:UTC
DTSTART:20230101T000000
END:STANDARD
END:VTIMEZONE
BEGIN:VEVENT
DTSTART;TZID=UTC:20251226T190000
DTEND;TZID=UTC:20251226T210000
DTSTAMP:20260425T011642
CREATED:20250331T201531Z
LAST-MODIFIED:20250331T201531Z
UID:4226-1766775600-1766782800@rumbleseatwine.com
SUMMARY:NOTHING BUT TREBLE(NBT)
DESCRIPTION:
URL:https://rumbleseatwine.com/event/nothing-but-treblenbt/
LOCATION:Rumbleseat Wine
END:VEVENT
BEGIN:VEVENT
DTSTART;VALUE=DATE:20251225
DTEND;VALUE=DATE:20251226
DTSTAMP:20260425T011642
CREATED:20251204T225601Z
LAST-MODIFIED:20251204T225601Z
UID:4257-1766620800-1766707199@rumbleseatwine.com
SUMMARY:MERRY CHRISTMAS !
DESCRIPTION:
URL:https://rumbleseatwine.com/event/merry-christmas/
END:VEVENT
BEGIN:VEVENT
DTSTART;TZID=UTC:20251224T100000
DTEND;TZID=UTC:20251224T160000
DTSTAMP:20260425T011642
CREATED:20251204T225731Z
LAST-MODIFIED:20251204T225731Z
UID:4259-1766570400-1766592000@rumbleseatwine.com
SUMMARY:CHRISTMAS EVE HOURS 10:00AM-4:00PM
DESCRIPTION:
URL:https://rumbleseatwine.com/event/christmas-eve-hours-1000am-400pm/
LOCATION:Rumbleseat Wine
END:VEVENT
BEGIN:VEVENT
DTSTART;TZID=UTC:20250301T183000
DTEND;TZID=UTC:20250301T210000
DTSTAMP:20260425T011642
CREATED:20250211T202812Z
LAST-MODIFIED:20250211T202812Z
UID:4085-1740853800-1740862800@rumbleseatwine.com
SUMMARY:THE POCKET ROCKETS
DESCRIPTION:
URL:https://rumbleseatwine.com/event/the-pocket-rockets/
LOCATION:Rumbleseat Wine
END:VEVENT
BEGIN:VEVENT
DTSTART;TZID=UTC:20250228T190000
DTEND;TZID=UTC:20250228T210000
DTSTAMP:20260425T011642
CREATED:20250205T212942Z
LAST-MODIFIED:20250211T205854Z
UID:4068-1740769200-1740776400@rumbleseatwine.com
SUMMARY:MATT SCHOLP
DESCRIPTION:THIS ONE MAN SHOW IS FANTASTIC NIGHT OF ENTERTAINMENT WITH THE YOUNGEST FRIE!! MATT SCHOLP \nGREAT NIGHT TO RELAX WITH FRIENDS AND ENJOY!
URL:https://rumbleseatwine.com/event/matt-scholp-2/
LOCATION:Rumbleseat Wine
END:VEVENT
BEGIN:VEVENT
DTSTART;TZID=UTC:20250221T190000
DTEND;TZID=UTC:20250221T210000
DTSTAMP:20260425T011642
CREATED:20250205T212832Z
LAST-MODIFIED:20250211T203110Z
UID:4066-1740164400-1740171600@rumbleseatwine.com
SUMMARY:PREVO/BANKS
DESCRIPTION:THIS IS A MUST SEE DUO!! FEATURING LINDA PREVO ON VOCALS AND KEYS  AND WENDALL BANKS ON GUITAR!!! \nUNBELIEVABLY TALENTED!! \nPLAYING ALL YOUR FAVORITE CLASSIC HITS!!
URL:https://rumbleseatwine.com/event/prevo-banks/
LOCATION:Rumbleseat Wine
END:VEVENT
BEGIN:VEVENT
DTSTART;TZID=UTC:20250214T190000
DTEND;TZID=UTC:20250214T210000
DTSTAMP:20260425T011642
CREATED:20250205T212616Z
LAST-MODIFIED:20250211T203708Z
UID:4063-1739559600-1739566800@rumbleseatwine.com
SUMMARY:A VALENTINES WEEKEND CELEBRATION START WITH "THE MIND REELS"
DESCRIPTION:COME START YOUR VALENTINES CELEBRATION ♥ WITH THE MIND REELS!! \nPLAYING ALL THE BEST FROM THE 60’S AND 70’S
URL:https://rumbleseatwine.com/event/the-mind-reels-2/
LOCATION:Rumbleseat Wine
END:VEVENT
BEGIN:VEVENT
DTSTART;TZID=UTC:20250212T180000
DTEND;TZID=UTC:20250212T200000
DTSTAMP:20260425T011642
CREATED:20250212T212001Z
LAST-MODIFIED:20250212T212001Z
UID:4112-1739383200-1739390400@rumbleseatwine.com
SUMMARY:BRIANS WINE TASTING
DESCRIPTION:THEME: ITALIAN  (SOLD OUT)
URL:https://rumbleseatwine.com/event/brians-wine-tasting/
LOCATION:Rumbleseat Wine
END:VEVENT
BEGIN:VEVENT
DTSTART;TZID=UTC:20250207T190000
DTEND;TZID=UTC:20250207T210000
DTSTAMP:20260425T011642
CREATED:20250205T182721Z
LAST-MODIFIED:20250205T182731Z
UID:4060-1738954800-1738962000@rumbleseatwine.com
SUMMARY:The Martha's
DESCRIPTION:
URL:https://rumbleseatwine.com/event/the-marthas/
END:VEVENT
BEGIN:VEVENT
DTSTART;TZID=UTC:20250131T190000
DTEND;TZID=UTC:20250131T210000
DTSTAMP:20260425T011642
CREATED:20241227T235358Z
LAST-MODIFIED:20241227T235358Z
UID:4041-1738350000-1738357200@rumbleseatwine.com
SUMMARY:NOTHING BUT TREBLE
DESCRIPTION:
URL:https://rumbleseatwine.com/event/nothing-but-treble/
LOCATION:Rumbleseat Wine
END:VEVENT
BEGIN:VEVENT
DTSTART;TZID=UTC:20250124T190000
DTEND;TZID=UTC:20250124T210000
DTSTAMP:20260425T011642
CREATED:20241227T224855Z
LAST-MODIFIED:20241227T224855Z
UID:4039-1737745200-1737752400@rumbleseatwine.com
SUMMARY:BACK AT IT !!
DESCRIPTION:
URL:https://rumbleseatwine.com/event/back-at-it/
LOCATION:Rumbleseat Wine
END:VEVENT
BEGIN:VEVENT
DTSTART;TZID=UTC:20250121T180000
DTEND;TZID=UTC:20250121T200000
DTSTAMP:20260425T011642
CREATED:20241228T001331Z
LAST-MODIFIED:20241228T001331Z
UID:4043-1737482400-1737489600@rumbleseatwine.com
SUMMARY:BRIAN'S TASTING BY RESERVATION ONLY for more info (937)938-9801
DESCRIPTION:
URL:https://rumbleseatwine.com/event/brians-tasting-by-reservation-only-for-more-info-937938-9801/
LOCATION:Rumbleseat Wine
END:VEVENT
BEGIN:VEVENT
DTSTART;TZID=UTC:20250117T190000
DTEND;TZID=UTC:20250117T210000
DTSTAMP:20260425T011642
CREATED:20241227T224729Z
LAST-MODIFIED:20241227T224729Z
UID:4037-1737140400-1737147600@rumbleseatwine.com
SUMMARY:MATT SCHOLP
DESCRIPTION:
URL:https://rumbleseatwine.com/event/matt-scholp/
LOCATION:Rumbleseat Wine
END:VEVENT
BEGIN:VEVENT
DTSTART;VALUE=DATE:20241128
DTEND;VALUE=DATE:20241129
DTSTAMP:20260425T011642
CREATED:20241123T184427Z
LAST-MODIFIED:20241123T184427Z
UID:4020-1732752000-1732838399@rumbleseatwine.com
SUMMARY:HAPPY THANKSGIVING! CLOSED:)
DESCRIPTION:
URL:https://rumbleseatwine.com/event/happy-thanksgiving-closed/
END:VEVENT
BEGIN:VEVENT
DTSTART;TZID=UTC:20241122T190000
DTEND;TZID=UTC:20241122T210000
DTSTAMP:20260425T011642
CREATED:20240924T181519Z
LAST-MODIFIED:20241008T184150Z
UID:4011-1732302000-1732309200@rumbleseatwine.com
SUMMARY:BACK AT IT
DESCRIPTION:
URL:https://rumbleseatwine.com/event/tbd-10/
LOCATION:Rumbleseat Wine
END:VEVENT
BEGIN:VEVENT
DTSTART;TZID=UTC:20241115T190000
DTEND;TZID=UTC:20241115T210000
DTSTAMP:20260425T011642
CREATED:20240924T180233Z
LAST-MODIFIED:20240924T180233Z
UID:3992-1731697200-1731704400@rumbleseatwine.com
SUMMARY:MATT SCHOLP
DESCRIPTION:
URL:https://rumbleseatwine.com/event/matt-scholp-10/
LOCATION:Rumbleseat Wine
END:VEVENT
BEGIN:VEVENT
DTSTART;TZID=UTC:20241108T190000
DTEND;TZID=UTC:20241108T210000
DTSTAMP:20260425T011642
CREATED:20240924T180140Z
LAST-MODIFIED:20240924T180140Z
UID:3990-1731092400-1731099600@rumbleseatwine.com
SUMMARY:THE MIND REELS
DESCRIPTION:
URL:https://rumbleseatwine.com/event/the-mind-reels/
LOCATION:Rumbleseat Wine
END:VEVENT
BEGIN:VEVENT
DTSTART;TZID=UTC:20241101T190000
DTEND;TZID=UTC:20241101T210000
DTSTAMP:20260425T011642
CREATED:20240924T180054Z
LAST-MODIFIED:20240924T180054Z
UID:3988-1730487600-1730494800@rumbleseatwine.com
SUMMARY:THE MARTHAS
DESCRIPTION:
URL:https://rumbleseatwine.com/event/the-marthas-18/
LOCATION:Rumbleseat Wine
END:VEVENT
BEGIN:VEVENT
DTSTART;TZID=UTC:20241025T190000
DTEND;TZID=UTC:20241025T210000
DTSTAMP:20260425T011642
CREATED:20240924T175928Z
LAST-MODIFIED:20240924T175928Z
UID:3986-1729882800-1729890000@rumbleseatwine.com
SUMMARY:NOTHING BUT TREBLE
DESCRIPTION:
URL:https://rumbleseatwine.com/event/nothing-but-treble-11/
LOCATION:Rumbleseat Wine
END:VEVENT
BEGIN:VEVENT
DTSTART;TZID=UTC:20241018T190000
DTEND;TZID=UTC:20241018T210000
DTSTAMP:20260425T011642
CREATED:20240924T175840Z
LAST-MODIFIED:20240924T175840Z
UID:3984-1729278000-1729285200@rumbleseatwine.com
SUMMARY:THE POCKET ROCKETS!!!
DESCRIPTION:
URL:https://rumbleseatwine.com/event/the-pocket-rockets-3/
LOCATION:Rumbleseat Wine
END:VEVENT
BEGIN:VEVENT
DTSTART;TZID=UTC:20241008T080000
DTEND;TZID=UTC:20241008T170000
DTSTAMP:20260425T011642
CREATED:20241008T213057Z
LAST-MODIFIED:20241008T213057Z
UID:4017-1728374400-1728406800@rumbleseatwine.com
SUMMARY:WENDELL/BANKS!!
DESCRIPTION:Please welcome Wendell Banks on Guitar and Linda Prevo on vocals \nshare an evening of easy listening hits from the 70’s Fun night With fun performers these two have played in other collaborations here at Rumbleseat through the years!
URL:https://rumbleseatwine.com/event/wendell-banks-2/
END:VEVENT
BEGIN:VEVENT
DTSTART;TZID=UTC:20241004T190000
DTEND;TZID=UTC:20241004T210000
DTSTAMP:20260425T011642
CREATED:20240815T194822Z
LAST-MODIFIED:20240815T194822Z
UID:3964-1728068400-1728075600@rumbleseatwine.com
SUMMARY:THE MARTHAS
DESCRIPTION:
URL:https://rumbleseatwine.com/event/the-marthas-17/
LOCATION:Rumbleseat Wine
END:VEVENT
BEGIN:VEVENT
DTSTART;TZID=UTC:20240927T190000
DTEND;TZID=UTC:20240927T210000
DTSTAMP:20260425T011642
CREATED:20240815T191902Z
LAST-MODIFIED:20240909T195818Z
UID:3962-1727463600-1727470800@rumbleseatwine.com
SUMMARY:BACK AT IT!
DESCRIPTION:
URL:https://rumbleseatwine.com/event/tbd-7/
LOCATION:Rumbleseat Wine
END:VEVENT
BEGIN:VEVENT
DTSTART;TZID=UTC:20240924T190000
DTEND;TZID=UTC:20240924T210000
DTSTAMP:20260425T011642
CREATED:20240924T180330Z
LAST-MODIFIED:20240924T180330Z
UID:3994-1727204400-1727211600@rumbleseatwine.com
SUMMARY:TBD
DESCRIPTION:
URL:https://rumbleseatwine.com/event/tbd-9/
LOCATION:Rumbleseat Wine
END:VEVENT
BEGIN:VEVENT
DTSTART;TZID=UTC:20240920T190000
DTEND;TZID=UTC:20240920T210000
DTSTAMP:20260425T011642
CREATED:20240815T191707Z
LAST-MODIFIED:20240822T184023Z
UID:3960-1726858800-1726866000@rumbleseatwine.com
SUMMARY:TOM DOWNS & KURT DUNCAN DUO
DESCRIPTION:PLAYING OLDIES FROM 60 70 ERA
URL:https://rumbleseatwine.com/event/matt-scholp-9/
LOCATION:Rumbleseat Wine
END:VEVENT
BEGIN:VEVENT
DTSTART;TZID=UTC:20240913T190000
DTEND;TZID=UTC:20240913T210000
DTSTAMP:20260425T011642
CREATED:20240815T191611Z
LAST-MODIFIED:20240822T183846Z
UID:3958-1726254000-1726261200@rumbleseatwine.com
SUMMARY:MATT SCHOLP
DESCRIPTION:PLAYING OLDIES FROM 60 70 ERA
URL:https://rumbleseatwine.com/event/tom-downs-kurt-duncan-duo/
LOCATION:Rumbleseat Wine
END:VEVENT
BEGIN:VEVENT
DTSTART;TZID=UTC:20240906T190000
DTEND;TZID=UTC:20240906T210000
DTSTAMP:20260425T011642
CREATED:20240321T223844Z
LAST-MODIFIED:20240321T223844Z
UID:3916-1725649200-1725656400@rumbleseatwine.com
SUMMARY:THE MARTHAS
DESCRIPTION:
URL:https://rumbleseatwine.com/event/the-marthas-16/
LOCATION:Rumbleseat Wine
END:VEVENT
BEGIN:VEVENT
DTSTART;VALUE=DATE:20240831
DTEND;VALUE=DATE:20240903
DTSTAMP:20260425T011642
CREATED:20240828T224635Z
LAST-MODIFIED:20240828T224704Z
UID:3974-1725062400-1725321599@rumbleseatwine.com
SUMMARY:LABOR DAY HOLIDAY HOURS
DESCRIPTION:Friday: Open 10am – 9pm LIVE MUSIC \nSaturday – Monday:  Closed
URL:https://rumbleseatwine.com/event/labor-day-holiday-hours/
END:VEVENT
BEGIN:VEVENT
DTSTART;TZID=UTC:20240830T190000
DTEND;TZID=UTC:20240830T210000
DTSTAMP:20260425T011642
CREATED:20240321T223749Z
LAST-MODIFIED:20240815T191030Z
UID:3914-1725044400-1725051600@rumbleseatwine.com
SUMMARY:BACK AT IT!!
DESCRIPTION:
URL:https://rumbleseatwine.com/event/tbd-8/
LOCATION:Rumbleseat Wine
END:VEVENT
END:VCALENDAR