BEGIN:VCALENDAR
VERSION:2.0
PRODID:-//Welcome to  Rumbleseat Wine - ECPv6.15.20//NONSGML v1.0//EN
CALSCALE:GREGORIAN
METHOD:PUBLISH
X-ORIGINAL-URL:https://rumbleseatwine.com
X-WR-CALDESC:Events for Welcome to  Rumbleseat Wine
REFRESH-INTERVAL;VALUE=DURATION:PT1H
X-Robots-Tag:noindex
X-PUBLISHED-TTL:PT1H
BEGIN:VTIMEZONE
TZID:UTC
BEGIN:STANDARD
TZOFFSETFROM:+0000
TZOFFSETTO:+0000
TZNAME:UTC
DTSTART:20250101T000000
END:STANDARD
END:VTIMEZONE
BEGIN:VEVENT
DTSTART;TZID=UTC:20260403T190000
DTEND;TZID=UTC:20260403T210000
DTSTAMP:20260425T041503
CREATED:20260307T182759Z
LAST-MODIFIED:20260307T182759Z
UID:4296-1775242800-1775250000@rumbleseatwine.com
SUMMARY:THE MARTHA'S
DESCRIPTION:
URL:https://rumbleseatwine.com/event/the-marthas-3/
LOCATION:Rumbleseat Wine
END:VEVENT
BEGIN:VEVENT
DTSTART;TZID=UTC:20260410T190000
DTEND;TZID=UTC:20260410T210000
DTSTAMP:20260425T041503
CREATED:20260409T174423Z
LAST-MODIFIED:20260409T174423Z
UID:4301-1775847600-1775854800@rumbleseatwine.com
SUMMARY:MIND REELS
DESCRIPTION:
URL:https://rumbleseatwine.com/event/mind-reels/
LOCATION:Rumbleseat Wine
END:VEVENT
BEGIN:VEVENT
DTSTART;TZID=UTC:20260416T190000
DTEND;TZID=UTC:20260416T210000
DTSTAMP:20260425T041503
CREATED:20260409T174510Z
LAST-MODIFIED:20260409T174510Z
UID:4303-1776366000-1776373200@rumbleseatwine.com
SUMMARY:MATT SCHOLP
DESCRIPTION:
URL:https://rumbleseatwine.com/event/matt-scholp-4/
LOCATION:Rumbleseat Wine
END:VEVENT
BEGIN:VEVENT
DTSTART;TZID=UTC:20260424T190000
DTEND;TZID=UTC:20260424T210000
DTSTAMP:20260425T041503
CREATED:20260409T181152Z
LAST-MODIFIED:20260409T181152Z
UID:4305-1777057200-1777064400@rumbleseatwine.com
SUMMARY:BACK AT IT
DESCRIPTION:THIS BAND JAMS ! GREAT CLASSIC ROCK BAND!!
URL:https://rumbleseatwine.com/event/back-at-it-3/
LOCATION:Rumbleseat Wine
END:VEVENT
END:VCALENDAR