BEGIN:VCALENDAR
VERSION:2.0
PRODID:-//Welcome to  Rumbleseat Wine - ECPv6.15.20//NONSGML v1.0//EN
CALSCALE:GREGORIAN
METHOD:PUBLISH
X-ORIGINAL-URL:https://rumbleseatwine.com
X-WR-CALDESC:Events for Welcome to  Rumbleseat Wine
REFRESH-INTERVAL;VALUE=DURATION:PT1H
X-Robots-Tag:noindex
X-PUBLISHED-TTL:PT1H
BEGIN:VTIMEZONE
TZID:UTC
BEGIN:STANDARD
TZOFFSETFROM:+0000
TZOFFSETTO:+0000
TZNAME:UTC
DTSTART:20250101T000000
END:STANDARD
END:VTIMEZONE
BEGIN:VEVENT
DTSTART;TZID=UTC:20260220T190000
DTEND;TZID=UTC:20260220T210000
DTSTAMP:20260424T212538
CREATED:20260204T185549Z
LAST-MODIFIED:20260204T185549Z
UID:4285-1771614000-1771621200@rumbleseatwine.com
SUMMARY:MATT SCHOLP
DESCRIPTION:
URL:https://rumbleseatwine.com/event/matt-scholp-3/
END:VEVENT
END:VCALENDAR