BEGIN:VCALENDAR
VERSION:2.0
PRODID:-//Welcome to  Rumbleseat Wine - ECPv6.15.20//NONSGML v1.0//EN
CALSCALE:GREGORIAN
METHOD:PUBLISH
X-WR-CALNAME:Welcome to  Rumbleseat Wine
X-ORIGINAL-URL:https://rumbleseatwine.com
X-WR-CALDESC:Events for Welcome to  Rumbleseat Wine
REFRESH-INTERVAL;VALUE=DURATION:PT1H
X-Robots-Tag:noindex
X-PUBLISHED-TTL:PT1H
BEGIN:VTIMEZONE
TZID:UTC
BEGIN:STANDARD
TZOFFSETFROM:+0000
TZOFFSETTO:+0000
TZNAME:UTC
DTSTART:20250101T000000
END:STANDARD
END:VTIMEZONE
BEGIN:VEVENT
DTSTART;VALUE=DATE:20260101
DTEND;VALUE=DATE:20260113
DTSTAMP:20260424T230900
CREATED:20251204T225319Z
LAST-MODIFIED:20251204T225319Z
UID:4252-1767225600-1768262399@rumbleseatwine.com
SUMMARY:WINTER BREAK JANUARY 1ST- JANUARY 12
DESCRIPTION:RUMBLESEAT WILL BE CLOSED FROM JANUARY1ST UNTIL JANUARY 12TH FOR A MUCH NEEDED BREAK AFTER A GREAT HOLIDAY SEASON!
URL:https://rumbleseatwine.com/event/winter-break-january-1st-january-12/
LOCATION:Rumbleseat Wine
END:VEVENT
END:VCALENDAR